BEGIN:VCALENDAR
VERSION:2.0
PRODID:-//Adult Children of Alcoholics/Dysfunctional Families European Committee - ECPv6.15.20//NONSGML v1.0//EN
CALSCALE:GREGORIAN
METHOD:PUBLISH
X-WR-CALNAME:Adult Children of Alcoholics/Dysfunctional Families European Committee
X-ORIGINAL-URL:https://test.acawsoec.org
X-WR-CALDESC:Events for Adult Children of Alcoholics/Dysfunctional Families European Committee
REFRESH-INTERVAL;VALUE=DURATION:PT1H
X-Robots-Tag:noindex
X-PUBLISHED-TTL:PT1H
BEGIN:VTIMEZONE
TZID:Europe/Helsinki
BEGIN:DAYLIGHT
TZOFFSETFROM:+0200
TZOFFSETTO:+0300
TZNAME:EEST
DTSTART:20180325T010000
END:DAYLIGHT
BEGIN:STANDARD
TZOFFSETFROM:+0300
TZOFFSETTO:+0200
TZNAME:EET
DTSTART:20181028T010000
END:STANDARD
BEGIN:DAYLIGHT
TZOFFSETFROM:+0200
TZOFFSETTO:+0300
TZNAME:EEST
DTSTART:20190331T010000
END:DAYLIGHT
BEGIN:STANDARD
TZOFFSETFROM:+0300
TZOFFSETTO:+0200
TZNAME:EET
DTSTART:20191027T010000
END:STANDARD
BEGIN:DAYLIGHT
TZOFFSETFROM:+0200
TZOFFSETTO:+0300
TZNAME:EEST
DTSTART:20200329T010000
END:DAYLIGHT
BEGIN:STANDARD
TZOFFSETFROM:+0300
TZOFFSETTO:+0200
TZNAME:EET
DTSTART:20201025T010000
END:STANDARD
BEGIN:DAYLIGHT
TZOFFSETFROM:+0200
TZOFFSETTO:+0300
TZNAME:EEST
DTSTART:20210328T010000
END:DAYLIGHT
BEGIN:STANDARD
TZOFFSETFROM:+0300
TZOFFSETTO:+0200
TZNAME:EET
DTSTART:20211031T010000
END:STANDARD
BEGIN:DAYLIGHT
TZOFFSETFROM:+0200
TZOFFSETTO:+0300
TZNAME:EEST
DTSTART:20220327T010000
END:DAYLIGHT
BEGIN:STANDARD
TZOFFSETFROM:+0300
TZOFFSETTO:+0200
TZNAME:EET
DTSTART:20221030T010000
END:STANDARD
END:VTIMEZONE
BEGIN:VTIMEZONE
TZID:Europe/Paris
BEGIN:DAYLIGHT
TZOFFSETFROM:+0100
TZOFFSETTO:+0200
TZNAME:CEST
DTSTART:20190331T010000
END:DAYLIGHT
BEGIN:STANDARD
TZOFFSETFROM:+0200
TZOFFSETTO:+0100
TZNAME:CET
DTSTART:20191027T010000
END:STANDARD
BEGIN:DAYLIGHT
TZOFFSETFROM:+0100
TZOFFSETTO:+0200
TZNAME:CEST
DTSTART:20200329T010000
END:DAYLIGHT
BEGIN:STANDARD
TZOFFSETFROM:+0200
TZOFFSETTO:+0100
TZNAME:CET
DTSTART:20201025T010000
END:STANDARD
BEGIN:DAYLIGHT
TZOFFSETFROM:+0100
TZOFFSETTO:+0200
TZNAME:CEST
DTSTART:20210328T010000
END:DAYLIGHT
BEGIN:STANDARD
TZOFFSETFROM:+0200
TZOFFSETTO:+0100
TZNAME:CET
DTSTART:20211031T010000
END:STANDARD
END:VTIMEZONE
BEGIN:VEVENT
DTSTART;VALUE=DATE:20211001
DTEND;VALUE=DATE:20211004
DTSTAMP:20260419T203045
CREATED:20200527T184214Z
LAST-MODIFIED:20201004T172426Z
UID:2186-1633046400-1633305599@test.acawsoec.org
SUMMARY:Intergroep Nederland [IG #598] Weekend Retreat
DESCRIPTION:Reserve this weekend in your calendars!\n\n\n\n\n\n\n\n\nThe location will be the beautiful historical monument of Eikhold Natuurvriendenhuis in South Limbourg and is scheduled for the weekend of Friday afternoon through Sunday lunchtime. Eikhold is a 15 minute walk from the center of Heerlen and equally close to the the beautiful Netherlands nature reserve of Brunssummerheide. \n\n\n\nAs in past retreats\, we plan to include meetings and meditations both indoors and outdoors plus workshops\, fun activities (for our Inner Children) and meals together (two each of breakfast\, lunch and dinner). \nStay tuned to your inbox for information about costs\, meals and registering online. Please send any questions to acanl.events@gmail.com and do not contact Eikhold Natuurvriendenhuis directly. \n\n\n 
URL:https://test.acawsoec.org/event/intergroep-nederland-ig-598-weekend-retreat/
LOCATION:Natuurvriendenhuis Eikhold\, Valkenburgerweg 72\, 6419 AV Heerlen\, Netherlands
END:VEVENT
BEGIN:VEVENT
DTSTART;TZID=Europe/Helsinki:20201225T150000
DTEND;TZID=Europe/Helsinki:20201225T170000
DTSTAMP:20260419T203045
CREATED:20201217T181204Z
LAST-MODIFIED:20201217T181204Z
UID:2347-1608908400-1608915600@test.acawsoec.org
SUMMARY:Inner Child Workshop“Awakening my Little One”
DESCRIPTION:Time: Dec 25\, 2020 15:00 – 17:00 CET \nIn this workshop besides our readings we will use collages\, writing with our non-dominant hand\, some dominant hand writing\, music from RSG Awakening My Little One\, drawing\, scribbling\, doodling\, coloring and meditations to find our Inner Child while seeking our connection\nwith a Higher Power to guide us through this process.\nPlease have your picture from when you were a child\, blank paper\, pencils\, crayons\, scissors\, cutouts of old magazines\, and glue to do exercises with your Inner Child to scribble/doodle/draw/create a collage/write letters\, affirmations or feeling words. \n  \nACA IG #711 is inviting you to a scheduled Zoom meeting.\nTopic: Inner Child Workshop – “Awakening My Little One”\nTime: Dec 25\, 2020 15:00 – 17:00 CET – Amsterdam\, Berlin\, Rome\, Stockholm\, Vienna \nJoin Zoom Meeting\nhttps://us02web.zoom.us/j/89729239660?pwd=YlN3SWptS2QyamxURUdUaGl0eGpuZz09\nMeeting ID: 897 2923 9660\nPasscode: 711 \nFind your local number: https://us02web.zoom.us/u/keHVWiB2sP\nFor additional info please e mail: acoacarlat@gmail.com
URL:https://test.acawsoec.org/event/inner-child-workshopawakening-my-little-one/
LOCATION:Online
END:VEVENT
BEGIN:VEVENT
DTSTART;TZID=Europe/Helsinki:20201003T100000
DTEND;TZID=Europe/Helsinki:20201003T210000
DTSTAMP:20260419T203045
CREATED:20200921T064426Z
LAST-MODIFIED:20201003T113056Z
UID:2219-1601719200-1601758800@test.acawsoec.org
SUMMARY:6th European Annual Event
DESCRIPTION:6th European Annual Event is being held virtual\nSaturday 3rd October 2020\n10.00-21.00 (CET) \n\nBecoming your own Loving parent\nRecovery in traditions and service\nLiving the steps in your life\nPanel discussion: European Region\nPanel discussion: Sponsorship\nThe Laundry List or similar topic\nClosing meeting with open sharing\n\nTimes to be announced  @  www.acawsoec.org \nLoving.Parent-EC.2020
URL:https://test.acawsoec.org/event/6th-european-annual-event/
LOCATION:VIRTUAL
END:VEVENT
BEGIN:VEVENT
DTSTART;TZID=Europe/Helsinki:20201003T080000
DTEND;TZID=Europe/Helsinki:20201003T170000
DTSTAMP:20260419T203045
CREATED:20201003T114232Z
LAST-MODIFIED:20201003T114232Z
UID:2262-1601712000-1601744400@test.acawsoec.org
SUMMARY:Loving parent presentation
DESCRIPTION:Loving.Parent-EC.2020
URL:https://test.acawsoec.org/event/loving-parent-presentation/
END:VEVENT
BEGIN:VEVENT
DTSTART;VALUE=DATE:20200904
DTEND;VALUE=DATE:20200907
DTSTAMP:20260419T203045
CREATED:20200818T080805Z
LAST-MODIFIED:20200818T080805Z
UID:2203-1599177600-1599436799@test.acawsoec.org
SUMMARY:POLISH ACA CONVENTION
DESCRIPTION:Polish ACA Intergroup \ninvites everyone to join \nthe Vth POLISH ACA CONVENTION \n04-06 September 2020 \nKozienice Centre for Recreation and Sport \nPoland\, 26 – 900 Kozienice\, 30 Bohaterów Studzianek Street \nThe program includes: \n\nmeetings\nspeakers\nworkshops\nbonfire\ntime to have fun and relax\nintegration activities\ncoffee meetings\na lot of serenity 🙂\n\n  \nThe cost of participation: accommodation and board 210zł + accreditation 20zł \naccommodation: 110 PLN (55 PLN per night\, one night stay possible); \nboarding: 100 zł (all meals) or 18 zł for a chosen meal; \naccreditation: 20 zł (obligatory fee: ID\, printing of materials and brochures\, coffee\, tea\, snacks\, bonfire). \n  \nKozienice – a town situated 100 km from the capital city Warsaw\, in Mazowieckie Voivodeship\, Kozienice County. How to get there? Frequent bus from Warsaw\, 1 h 40 min journey or 100 km by car. \n  \nBooking: via form on the website dda.org.pl or by mail: zlot@dda.org.pl \nInfo: zlot@dda.org.pl \n  \nAleksandra K. \nPrzystan\, Kolobrzeg \n  \nOn behalf of: \nPolish ACA Convention Committee \nand \nTranslation Committee
URL:https://test.acawsoec.org/event/polish-aca-convention/
LOCATION:Kozienice Centre for Recreation and Sport\, 30 Bohaterów Studzianek Street\, Kozienice\, Poland
END:VEVENT
BEGIN:VEVENT
DTSTART;VALUE=DATE:20200222
DTEND;VALUE=DATE:20200223
DTSTAMP:20260419T203045
CREATED:20200218T194007Z
LAST-MODIFIED:20200218T194007Z
UID:2107-1582329600-1582415999@test.acawsoec.org
SUMMARY:BRB-Convention in Copenhagen
DESCRIPTION:Big Red Book-Convention in Copenhagen\nFebruary 22\, 2020\, 10:30 – 22\nCafé Hyltebjerggård\, Linde Allé 33\, 2720 Vanløse \nFor more info visit (info in Danish):\nhttps://www.aca-danmark.dk/2020/02/09/roedbogs-stafet-i-koebenhavn-22-februar/ \nEmail: kontakt@aca-danmark.dk
URL:https://test.acawsoec.org/event/brb-convention-in-copenhagen/
LOCATION:Café Hyltebjerggård\, Linde Allé 33\, Vanløse\, Copenhagen\, Copenhagen\, 2720\, Denmark
END:VEVENT
BEGIN:VEVENT
DTSTART;TZID=Europe/Helsinki:20191109T120000
DTEND;TZID=Europe/Helsinki:20191110T200000
DTSTAMP:20260419T203045
CREATED:20191010T084050Z
LAST-MODIFIED:20191011T081351Z
UID:1999-1573300800-1573416000@test.acawsoec.org
SUMMARY:International ACA workshop in Vilnius
DESCRIPTION:Introduction to working the ACA twelve steps. Language of workshop is english. \nOffering: 1 day – 5 EUR\, 2 days – 10 EUR\nLithuanian ACA appreciates your support. \nPlease bring your yellow workbook to the event. \nRegistration and questions: wilmmius@gmail.com \nACA-workshop-VILNIUS (1)
URL:https://test.acawsoec.org/event/international-aca-workshop-in-vilnius/
LOCATION:Kryziaus Namai Hall\, S. Daukanto A 1\, Vilnius\, Lithuania
END:VEVENT
BEGIN:VEVENT
DTSTART;TZID=Europe/Helsinki:20191102T104500
DTEND;TZID=Europe/Helsinki:20191102T212000
DTSTAMP:20260419T203045
CREATED:20191006T054338Z
LAST-MODIFIED:20191006T054338Z
UID:1987-1572691500-1572729600@test.acawsoec.org
SUMMARY:ACA-Løkka 1 year: You're not alone
DESCRIPTION:ACA-Løkka are celebrating our first anniversary\, Saturday November 2nd 2019\,\nat Helgesens Gate 62A\, Oslo. The event is open to the public. \nSchedule:\n10:45-11:00 Welcome\n11:00-12:30 Speaker meeting: The Problem and the Solution\n12:50-14:20 Workshop: Reparenting your inner child\n14:40-16:10 Speaker meeting: The 12 Steps and the 12 Traditions\n16:10-18:00 Dinner break\n18:00-19:30 Workshop: Step Work\n19:50-21:20 Regular ACA meeting \nAll meetings and workshops are in Norwegian. \nSnacks\, fruit\, refreshments and tea/coffee will be available throughout the day. Dinner is not served but there are plenty of restaurants that offer take away in the area. \nThe event is free of charge. We encourage everyone to give their fair share according to\nthe 7th tradition (VIPPS/Cash). Funds will go towards covering event expenses such as\nrent\, snacks and carrying the ACA message. \nWe look forward to sharing this day with you! Do you have questions or wish to offer\nservice? Contact us at: acalokka@gmail.com.
URL:https://test.acawsoec.org/event/aca-lokka-1-year-youre-not-alone/
LOCATION:Helgesens Gate 62A\, Helgesens Gate 62A\, Oslo\, Norway
END:VEVENT
BEGIN:VEVENT
DTSTART;TZID=Europe/Helsinki:20191005T100000
DTEND;TZID=Europe/Helsinki:20191005T200000
DTSTAMP:20260419T203045
CREATED:20190918T150426Z
LAST-MODIFIED:20190918T150426Z
UID:1971-1570269600-1570305600@test.acawsoec.org
SUMMARY:8th ACA Convention in Moscow\, Russia
DESCRIPTION:The 8th Moscow ACA Convention will be held on 5th of October in Moscow\, Russia. \nTopic: “One Day at A Time” \nRegistration open at 10:00 Moscow time (GMT/UTC +3)\nOpening at 11:00\nEnding at 20:00\nProgram:\n– Big main meeting\n– Speaker shares\n– small meetings with different topics \nSuggested donation: 500 roubles (~7 EUR) \nAddress: Moscow\, Dekabristov ulitsa\, 27\, 6th floor\nGoogle maps: https://goo.gl/maps/2MG8VKJsUicHJZNY8\nNear Otradnoe metro station (5 minutes walk) it’s north of the city\, pretty far from city center (20 minutes by metro) \nThe Host Committee of Moscow ACA Convention is looking for speakers!\nPossible topics:\n0. One day at a time\n1. Recovering Couple\n2. Loving parent\n3. Honesty\n4. Promises\n5. Other Laundry List\n6. Steps 1-5\n7. Steps 6-9\n8. Steps 10-12\n9. For beginners in ACA\n10. Inner Child\n11. Sex\n12. Service \nNearest Moscow airport is Sheremetyevo (SVO). \nCitizens of EU need visa. You could apply it here: https://visa.kdmid.ru/PetitionChoice.aspx?AspxAutoDetectCookieSupport=1\nVisa service center https://www.vfsglobal.com/Russia/Denmark/ (Denmark is for example)\nInvitation letter for visa (cost 15 EUR) http://russian-visas.net/?no_redirect=true/ \nHotels and apartments in near area on booking.com: https://clck.ru/Hxxeo \nContact of Host committee of Moscow Intergroup: bv2019@vdamoscow.ru
URL:https://test.acawsoec.org/event/8th-aca-convention-in-moscow-russia/
LOCATION:Moscow\, Dekabristov ulitsa\, 27\, 6th floor\, Moscow\, Russian Federation
ORGANIZER;CN="":MAILTO:bv2019@vdamoscow.ru
END:VEVENT
END:VCALENDAR