BEGIN:VCALENDAR
VERSION:2.0
PRODID:-//Adult Children of Alcoholics/Dysfunctional Families European Committee - ECPv6.15.20//NONSGML v1.0//EN
CALSCALE:GREGORIAN
METHOD:PUBLISH
X-ORIGINAL-URL:https://test.acawsoec.org
X-WR-CALDESC:Events for Adult Children of Alcoholics/Dysfunctional Families European Committee
REFRESH-INTERVAL;VALUE=DURATION:PT1H
X-Robots-Tag:noindex
X-PUBLISHED-TTL:PT1H
BEGIN:VTIMEZONE
TZID:Europe/Helsinki
BEGIN:DAYLIGHT
TZOFFSETFROM:+0200
TZOFFSETTO:+0300
TZNAME:EEST
DTSTART:20180325T010000
END:DAYLIGHT
BEGIN:STANDARD
TZOFFSETFROM:+0300
TZOFFSETTO:+0200
TZNAME:EET
DTSTART:20181028T010000
END:STANDARD
BEGIN:DAYLIGHT
TZOFFSETFROM:+0200
TZOFFSETTO:+0300
TZNAME:EEST
DTSTART:20190331T010000
END:DAYLIGHT
BEGIN:STANDARD
TZOFFSETFROM:+0300
TZOFFSETTO:+0200
TZNAME:EET
DTSTART:20191027T010000
END:STANDARD
BEGIN:DAYLIGHT
TZOFFSETFROM:+0200
TZOFFSETTO:+0300
TZNAME:EEST
DTSTART:20200329T010000
END:DAYLIGHT
BEGIN:STANDARD
TZOFFSETFROM:+0300
TZOFFSETTO:+0200
TZNAME:EET
DTSTART:20201025T010000
END:STANDARD
END:VTIMEZONE
BEGIN:VEVENT
DTSTART;TZID=Europe/Helsinki:20191109T120000
DTEND;TZID=Europe/Helsinki:20191110T200000
DTSTAMP:20260419T220945
CREATED:20191010T084050Z
LAST-MODIFIED:20191011T081351Z
UID:1999-1573300800-1573416000@test.acawsoec.org
SUMMARY:International ACA workshop in Vilnius
DESCRIPTION:Introduction to working the ACA twelve steps. Language of workshop is english. \nOffering: 1 day – 5 EUR\, 2 days – 10 EUR\nLithuanian ACA appreciates your support. \nPlease bring your yellow workbook to the event. \nRegistration and questions: wilmmius@gmail.com \nACA-workshop-VILNIUS (1)
URL:https://test.acawsoec.org/event/international-aca-workshop-in-vilnius/
LOCATION:Kryziaus Namai Hall\, S. Daukanto A 1\, Vilnius\, Lithuania
END:VEVENT
BEGIN:VEVENT
DTSTART;TZID=Europe/Helsinki:20191102T104500
DTEND;TZID=Europe/Helsinki:20191102T212000
DTSTAMP:20260419T220945
CREATED:20191006T054338Z
LAST-MODIFIED:20191006T054338Z
UID:1987-1572691500-1572729600@test.acawsoec.org
SUMMARY:ACA-Løkka 1 year: You're not alone
DESCRIPTION:ACA-Løkka are celebrating our first anniversary\, Saturday November 2nd 2019\,\nat Helgesens Gate 62A\, Oslo. The event is open to the public. \nSchedule:\n10:45-11:00 Welcome\n11:00-12:30 Speaker meeting: The Problem and the Solution\n12:50-14:20 Workshop: Reparenting your inner child\n14:40-16:10 Speaker meeting: The 12 Steps and the 12 Traditions\n16:10-18:00 Dinner break\n18:00-19:30 Workshop: Step Work\n19:50-21:20 Regular ACA meeting \nAll meetings and workshops are in Norwegian. \nSnacks\, fruit\, refreshments and tea/coffee will be available throughout the day. Dinner is not served but there are plenty of restaurants that offer take away in the area. \nThe event is free of charge. We encourage everyone to give their fair share according to\nthe 7th tradition (VIPPS/Cash). Funds will go towards covering event expenses such as\nrent\, snacks and carrying the ACA message. \nWe look forward to sharing this day with you! Do you have questions or wish to offer\nservice? Contact us at: acalokka@gmail.com.
URL:https://test.acawsoec.org/event/aca-lokka-1-year-youre-not-alone/
LOCATION:Helgesens Gate 62A\, Helgesens Gate 62A\, Oslo\, Norway
END:VEVENT
BEGIN:VEVENT
DTSTART;TZID=Europe/Helsinki:20191005T100000
DTEND;TZID=Europe/Helsinki:20191005T200000
DTSTAMP:20260419T220945
CREATED:20190918T150426Z
LAST-MODIFIED:20190918T150426Z
UID:1971-1570269600-1570305600@test.acawsoec.org
SUMMARY:8th ACA Convention in Moscow\, Russia
DESCRIPTION:The 8th Moscow ACA Convention will be held on 5th of October in Moscow\, Russia. \nTopic: “One Day at A Time” \nRegistration open at 10:00 Moscow time (GMT/UTC +3)\nOpening at 11:00\nEnding at 20:00\nProgram:\n– Big main meeting\n– Speaker shares\n– small meetings with different topics \nSuggested donation: 500 roubles (~7 EUR) \nAddress: Moscow\, Dekabristov ulitsa\, 27\, 6th floor\nGoogle maps: https://goo.gl/maps/2MG8VKJsUicHJZNY8\nNear Otradnoe metro station (5 minutes walk) it’s north of the city\, pretty far from city center (20 minutes by metro) \nThe Host Committee of Moscow ACA Convention is looking for speakers!\nPossible topics:\n0. One day at a time\n1. Recovering Couple\n2. Loving parent\n3. Honesty\n4. Promises\n5. Other Laundry List\n6. Steps 1-5\n7. Steps 6-9\n8. Steps 10-12\n9. For beginners in ACA\n10. Inner Child\n11. Sex\n12. Service \nNearest Moscow airport is Sheremetyevo (SVO). \nCitizens of EU need visa. You could apply it here: https://visa.kdmid.ru/PetitionChoice.aspx?AspxAutoDetectCookieSupport=1\nVisa service center https://www.vfsglobal.com/Russia/Denmark/ (Denmark is for example)\nInvitation letter for visa (cost 15 EUR) http://russian-visas.net/?no_redirect=true/ \nHotels and apartments in near area on booking.com: https://clck.ru/Hxxeo \nContact of Host committee of Moscow Intergroup: bv2019@vdamoscow.ru
URL:https://test.acawsoec.org/event/8th-aca-convention-in-moscow-russia/
LOCATION:Moscow\, Dekabristov ulitsa\, 27\, 6th floor\, Moscow\, Russian Federation
ORGANIZER;CN="":MAILTO:bv2019@vdamoscow.ru
END:VEVENT
END:VCALENDAR